BEGIN:VCALENDAR
VERSION:2.0
PRODID:-//Fanfarenzug Grün-Weiss Bad Salzig e.V. - ECPv6.15.20//NONSGML v1.0//EN
CALSCALE:GREGORIAN
METHOD:PUBLISH
X-WR-CALNAME:Fanfarenzug Grün-Weiss Bad Salzig e.V.
X-ORIGINAL-URL:http://fanfarenzug-badsalzig.de
X-WR-CALDESC:Veranstaltungen für Fanfarenzug Grün-Weiss Bad Salzig e.V.
REFRESH-INTERVAL;VALUE=DURATION:PT1H
X-Robots-Tag:noindex
X-PUBLISHED-TTL:PT1H
BEGIN:VTIMEZONE
TZID:Europe/Berlin
BEGIN:DAYLIGHT
TZOFFSETFROM:+0100
TZOFFSETTO:+0200
TZNAME:CEST
DTSTART:20250330T010000
END:DAYLIGHT
BEGIN:STANDARD
TZOFFSETFROM:+0200
TZOFFSETTO:+0100
TZNAME:CET
DTSTART:20251026T010000
END:STANDARD
BEGIN:DAYLIGHT
TZOFFSETFROM:+0100
TZOFFSETTO:+0200
TZNAME:CEST
DTSTART:20260329T010000
END:DAYLIGHT
BEGIN:STANDARD
TZOFFSETFROM:+0200
TZOFFSETTO:+0100
TZNAME:CET
DTSTART:20261025T010000
END:STANDARD
BEGIN:DAYLIGHT
TZOFFSETFROM:+0100
TZOFFSETTO:+0200
TZNAME:CEST
DTSTART:20270328T010000
END:DAYLIGHT
BEGIN:STANDARD
TZOFFSETFROM:+0200
TZOFFSETTO:+0100
TZNAME:CET
DTSTART:20271031T010000
END:STANDARD
END:VTIMEZONE
BEGIN:VEVENT
DTSTART;VALUE=DATE:20260501
DTEND;VALUE=DATE:20260502
DTSTAMP:20260424T184233
CREATED:20260223T073200Z
LAST-MODIFIED:20260223T073200Z
UID:6018-1777593600-1777679999@fanfarenzug-badsalzig.de
SUMMARY:Maibaumaufstellen
DESCRIPTION:Beginn 11:00 Uhr
URL:http://fanfarenzug-badsalzig.de/event/maibaumaufstellen-5/
END:VEVENT
BEGIN:VEVENT
DTSTART;VALUE=DATE:20260531
DTEND;VALUE=DATE:20260601
DTSTAMP:20260424T184233
CREATED:20260223T073227Z
LAST-MODIFIED:20260223T073227Z
UID:6016-1780185600-1780271999@fanfarenzug-badsalzig.de
SUMMARY:Jubliäum Frohsinn 150 Jahre
DESCRIPTION:Beginn 16:00 Uhr
URL:http://fanfarenzug-badsalzig.de/event/jubliaeum-frohsinn-150-jahre/
END:VEVENT
END:VCALENDAR