BEGIN:VCALENDAR
VERSION:2.0
PRODID:-//Fanfarenzug Grün-Weiss Bad Salzig e.V. - ECPv6.15.20//NONSGML v1.0//EN
CALSCALE:GREGORIAN
METHOD:PUBLISH
X-WR-CALNAME:Fanfarenzug Grün-Weiss Bad Salzig e.V.
X-ORIGINAL-URL:http://fanfarenzug-badsalzig.de
X-WR-CALDESC:Veranstaltungen für Fanfarenzug Grün-Weiss Bad Salzig e.V.
REFRESH-INTERVAL;VALUE=DURATION:PT1H
X-Robots-Tag:noindex
X-PUBLISHED-TTL:PT1H
BEGIN:VTIMEZONE
TZID:Europe/Berlin
BEGIN:DAYLIGHT
TZOFFSETFROM:+0100
TZOFFSETTO:+0200
TZNAME:CEST
DTSTART:20250330T010000
END:DAYLIGHT
BEGIN:STANDARD
TZOFFSETFROM:+0200
TZOFFSETTO:+0100
TZNAME:CET
DTSTART:20251026T010000
END:STANDARD
BEGIN:DAYLIGHT
TZOFFSETFROM:+0100
TZOFFSETTO:+0200
TZNAME:CEST
DTSTART:20260329T010000
END:DAYLIGHT
BEGIN:STANDARD
TZOFFSETFROM:+0200
TZOFFSETTO:+0100
TZNAME:CET
DTSTART:20261025T010000
END:STANDARD
BEGIN:DAYLIGHT
TZOFFSETFROM:+0100
TZOFFSETTO:+0200
TZNAME:CEST
DTSTART:20270328T010000
END:DAYLIGHT
BEGIN:STANDARD
TZOFFSETFROM:+0200
TZOFFSETTO:+0100
TZNAME:CET
DTSTART:20271031T010000
END:STANDARD
END:VTIMEZONE
BEGIN:VEVENT
DTSTART;VALUE=DATE:20260711
DTEND;VALUE=DATE:20260712
DTSTAMP:20260424T182405
CREATED:20260223T073311Z
LAST-MODIFIED:20260223T073311Z
UID:6030-1783728000-1783814399@fanfarenzug-badsalzig.de
SUMMARY:Vereinsgrillen
DESCRIPTION:
URL:http://fanfarenzug-badsalzig.de/event/vereinsgrillen/
END:VEVENT
BEGIN:VEVENT
DTSTART;VALUE=DATE:20260809
DTEND;VALUE=DATE:20260810
DTSTAMP:20260424T182405
CREATED:20260223T073337Z
LAST-MODIFIED:20260223T073337Z
UID:6029-1786233600-1786319999@fanfarenzug-badsalzig.de
SUMMARY:Freudschaftstreffen Herschbach
DESCRIPTION:Abfahrt folgt
URL:http://fanfarenzug-badsalzig.de/event/freudschaftstreffen-herschbach/
END:VEVENT
BEGIN:VEVENT
DTSTART;VALUE=DATE:20260904
DTEND;VALUE=DATE:20260907
DTSTAMP:20260424T182405
CREATED:20260223T073454Z
LAST-MODIFIED:20260223T073454Z
UID:6028-1788480000-1788739199@fanfarenzug-badsalzig.de
SUMMARY:Krimes MJBO
DESCRIPTION:Kirmesbaum aufstellen: Samstag 15:00 Uhr \nHeimatabend: Sonntag: 19:00 Uhr
URL:http://fanfarenzug-badsalzig.de/event/krimes-mjbo/
END:VEVENT
BEGIN:VEVENT
DTSTART;VALUE=DATE:20261129
DTEND;VALUE=DATE:20261130
DTSTAMP:20260424T182405
CREATED:20260223T073529Z
LAST-MODIFIED:20260223T073529Z
UID:6027-1795910400-1795996799@fanfarenzug-badsalzig.de
SUMMARY:Klingender Advent
DESCRIPTION:
URL:http://fanfarenzug-badsalzig.de/event/klingender-advent-2/
END:VEVENT
BEGIN:VEVENT
DTSTART;VALUE=DATE:20261212
DTEND;VALUE=DATE:20261213
DTSTAMP:20260424T182405
CREATED:20260223T073548Z
LAST-MODIFIED:20260223T073548Z
UID:6026-1797033600-1797119999@fanfarenzug-badsalzig.de
SUMMARY:Weihnachtsfeier
DESCRIPTION:
URL:http://fanfarenzug-badsalzig.de/event/weihnachtsfeier-5/
END:VEVENT
END:VCALENDAR