BEGIN:VCALENDAR
VERSION:2.0
PRODID:-//Fanfarenzug Grün-Weiss Bad Salzig e.V. - ECPv6.15.20//NONSGML v1.0//EN
CALSCALE:GREGORIAN
METHOD:PUBLISH
X-WR-CALNAME:Fanfarenzug Grün-Weiss Bad Salzig e.V.
X-ORIGINAL-URL:http://fanfarenzug-badsalzig.de
X-WR-CALDESC:Veranstaltungen für Fanfarenzug Grün-Weiss Bad Salzig e.V.
REFRESH-INTERVAL;VALUE=DURATION:PT1H
X-Robots-Tag:noindex
X-PUBLISHED-TTL:PT1H
BEGIN:VTIMEZONE
TZID:Europe/Berlin
BEGIN:DAYLIGHT
TZOFFSETFROM:+0100
TZOFFSETTO:+0200
TZNAME:CEST
DTSTART:20240331T010000
END:DAYLIGHT
BEGIN:STANDARD
TZOFFSETFROM:+0200
TZOFFSETTO:+0100
TZNAME:CET
DTSTART:20241027T010000
END:STANDARD
BEGIN:DAYLIGHT
TZOFFSETFROM:+0100
TZOFFSETTO:+0200
TZNAME:CEST
DTSTART:20250330T010000
END:DAYLIGHT
BEGIN:STANDARD
TZOFFSETFROM:+0200
TZOFFSETTO:+0100
TZNAME:CET
DTSTART:20251026T010000
END:STANDARD
BEGIN:DAYLIGHT
TZOFFSETFROM:+0100
TZOFFSETTO:+0200
TZNAME:CEST
DTSTART:20260329T010000
END:DAYLIGHT
BEGIN:STANDARD
TZOFFSETFROM:+0200
TZOFFSETTO:+0100
TZNAME:CET
DTSTART:20261025T010000
END:STANDARD
BEGIN:DAYLIGHT
TZOFFSETFROM:+0100
TZOFFSETTO:+0200
TZNAME:CEST
DTSTART:20270328T010000
END:DAYLIGHT
BEGIN:STANDARD
TZOFFSETFROM:+0200
TZOFFSETTO:+0100
TZNAME:CET
DTSTART:20271031T010000
END:STANDARD
END:VTIMEZONE
BEGIN:VEVENT
DTSTART;VALUE=DATE:20260307
DTEND;VALUE=DATE:20260308
DTSTAMP:20260424T181950
CREATED:20260223T073043Z
LAST-MODIFIED:20260223T073101Z
UID:6014-1772841600-1772927999@fanfarenzug-badsalzig.de
SUMMARY:Jahreshauptversammlung
DESCRIPTION:Beginn: 18:00 Uhr Messe\, 19:30 Uhr Antoniusstube
URL:http://fanfarenzug-badsalzig.de/event/jahreshaupversammlung/
END:VEVENT
BEGIN:VEVENT
DTSTART;VALUE=DATE:20260216
DTEND;VALUE=DATE:20260217
DTSTAMP:20260424T181950
CREATED:20260223T073013Z
LAST-MODIFIED:20260223T073013Z
UID:6017-1771200000-1771286399@fanfarenzug-badsalzig.de
SUMMARY:Karnevalsumzug Bendorf
DESCRIPTION:Beginn 14:11 Uhr
URL:http://fanfarenzug-badsalzig.de/event/karnevalsumzug-bendorf-4/
END:VEVENT
BEGIN:VEVENT
DTSTART;VALUE=DATE:20260215
DTEND;VALUE=DATE:20260216
DTSTAMP:20260424T181950
CREATED:20260223T072912Z
LAST-MODIFIED:20260223T072912Z
UID:6001-1771113600-1771199999@fanfarenzug-badsalzig.de
SUMMARY:Karnevalsumzug Osterspai
DESCRIPTION:Beginn 14:11 Uhr
URL:http://fanfarenzug-badsalzig.de/event/karnevalsumzug-osterspai/
END:VEVENT
BEGIN:VEVENT
DTSTART;VALUE=DATE:20260214
DTEND;VALUE=DATE:20260215
DTSTAMP:20260424T181950
CREATED:20260223T072856Z
LAST-MODIFIED:20260223T072856Z
UID:6002-1771027200-1771113599@fanfarenzug-badsalzig.de
SUMMARY:Karnevalsumzug Bad Salzig
DESCRIPTION:Beginn 14:11 Uhr
URL:http://fanfarenzug-badsalzig.de/event/karnevalsumzug-bad-salzig-3/
END:VEVENT
BEGIN:VEVENT
DTSTART;VALUE=DATE:20260207
DTEND;VALUE=DATE:20260208
DTSTAMP:20260424T181950
CREATED:20260223T072831Z
LAST-MODIFIED:20260223T072831Z
UID:6003-1770422400-1770508799@fanfarenzug-badsalzig.de
SUMMARY:Jugendsitzung CV
DESCRIPTION:Beginn 14:11 Uhr
URL:http://fanfarenzug-badsalzig.de/event/jugendsitzung-cv-3/
END:VEVENT
BEGIN:VEVENT
DTSTART;VALUE=DATE:20260131
DTEND;VALUE=DATE:20260201
DTSTAMP:20260424T181950
CREATED:20260223T072812Z
LAST-MODIFIED:20260223T072812Z
UID:6004-1769817600-1769903999@fanfarenzug-badsalzig.de
SUMMARY:3. Sitzung CV
DESCRIPTION:Beginn 19:33 Uhr
URL:http://fanfarenzug-badsalzig.de/event/3-sitzung-cv/
END:VEVENT
BEGIN:VEVENT
DTSTART;VALUE=DATE:20260130
DTEND;VALUE=DATE:20260131
DTSTAMP:20260424T181950
CREATED:20260223T072758Z
LAST-MODIFIED:20260223T072758Z
UID:6005-1769731200-1769817599@fanfarenzug-badsalzig.de
SUMMARY:2. Sitzung CV
DESCRIPTION:Beginn 19:33 Uhr
URL:http://fanfarenzug-badsalzig.de/event/2-sitzung-cv-3/
END:VEVENT
BEGIN:VEVENT
DTSTART;VALUE=DATE:20260124
DTEND;VALUE=DATE:20260125
DTSTAMP:20260424T181950
CREATED:20260223T072731Z
LAST-MODIFIED:20260223T072742Z
UID:6006-1769212800-1769299199@fanfarenzug-badsalzig.de
SUMMARY:1. Sitzung CV
DESCRIPTION:Beginn 19:33 Uhr
URL:http://fanfarenzug-badsalzig.de/event/1-sitzung-cv-3/
END:VEVENT
BEGIN:VEVENT
DTSTART;VALUE=DATE:20251018
DTEND;VALUE=DATE:20251019
DTSTAMP:20260424T181950
CREATED:20250409T062125Z
LAST-MODIFIED:20250409T062125Z
UID:5473-1760745600-1760831999@fanfarenzug-badsalzig.de
SUMMARY:Vereinsausflug - Hachenburger Brauerei
DESCRIPTION:Details folgen
URL:http://fanfarenzug-badsalzig.de/event/vereinsausflug-hachenburger-brauerei/
END:VEVENT
BEGIN:VEVENT
DTSTART;VALUE=DATE:20250907
DTEND;VALUE=DATE:20250908
DTSTAMP:20260424T181950
CREATED:20250409T062024Z
LAST-MODIFIED:20250409T062024Z
UID:5471-1757203200-1757289599@fanfarenzug-badsalzig.de
SUMMARY:Heimatabend Kirmes
DESCRIPTION:
URL:http://fanfarenzug-badsalzig.de/event/heimatabend-kirmes/
END:VEVENT
BEGIN:VEVENT
DTSTART;VALUE=DATE:20250906
DTEND;VALUE=DATE:20250907
DTSTAMP:20260424T181950
CREATED:20250409T061948Z
LAST-MODIFIED:20250409T061948Z
UID:5469-1757116800-1757203199@fanfarenzug-badsalzig.de
SUMMARY:Kirmesbaum aufstellen
DESCRIPTION:15:00 Uhr
URL:http://fanfarenzug-badsalzig.de/event/kirmesbaum-aufstellen/
END:VEVENT
BEGIN:VEVENT
DTSTART;VALUE=DATE:20250823
DTEND;VALUE=DATE:20250824
DTSTAMP:20260424T181950
CREATED:20250409T061903Z
LAST-MODIFIED:20250409T085356Z
UID:5467-1755907200-1755993599@fanfarenzug-badsalzig.de
SUMMARY:Waldfest Buchenau
DESCRIPTION:Spiel: 17:30 Uhr
URL:http://fanfarenzug-badsalzig.de/event/waldfest-buchenau-2/
END:VEVENT
BEGIN:VEVENT
DTSTART;VALUE=DATE:20250726
DTEND;VALUE=DATE:20250727
DTSTAMP:20260424T181951
CREATED:20250127T082013Z
LAST-MODIFIED:20250127T082013Z
UID:5260-1753488000-1753574399@fanfarenzug-badsalzig.de
SUMMARY:Hochzeit Sarah und Domi
DESCRIPTION:Zeiten folgen
URL:http://fanfarenzug-badsalzig.de/event/hochzeit-sarah-und-domi/
END:VEVENT
BEGIN:VEVENT
DTSTART;VALUE=DATE:20250628
DTEND;VALUE=DATE:20250629
DTSTAMP:20260424T181951
CREATED:20250409T061823Z
LAST-MODIFIED:20250409T061823Z
UID:5465-1751068800-1751155199@fanfarenzug-badsalzig.de
SUMMARY:Weinsommer
DESCRIPTION:Beginn: 15:00 Uhr
URL:http://fanfarenzug-badsalzig.de/event/weinsommer-3/
END:VEVENT
BEGIN:VEVENT
DTSTART;VALUE=DATE:20250628
DTEND;VALUE=DATE:20250629
DTSTAMP:20260424T181951
CREATED:20250127T081936Z
LAST-MODIFIED:20250127T081936Z
UID:5258-1751068800-1751155199@fanfarenzug-badsalzig.de
SUMMARY:Weinsommer
DESCRIPTION:Zeiten folgen
URL:http://fanfarenzug-badsalzig.de/event/weinsommer-2/
END:VEVENT
BEGIN:VEVENT
DTSTART;VALUE=DATE:20250608
DTEND;VALUE=DATE:20250609
DTSTAMP:20260424T181951
CREATED:20250409T061750Z
LAST-MODIFIED:20250409T061750Z
UID:5463-1749340800-1749427199@fanfarenzug-badsalzig.de
SUMMARY:Freundschaftstreffen Sassenberg
DESCRIPTION:Abfahrt: 09:00 Uhr \nRückfahrt: 17:00 Uhr
URL:http://fanfarenzug-badsalzig.de/event/freundschaftstreffen-sassenberg-2/
END:VEVENT
BEGIN:VEVENT
DTSTART;VALUE=DATE:20250608
DTEND;VALUE=DATE:20250609
DTSTAMP:20260424T181951
CREATED:20241201T091512Z
LAST-MODIFIED:20241201T091512Z
UID:5140-1749340800-1749427199@fanfarenzug-badsalzig.de
SUMMARY:Freundschaftstreffen Sassenberg
DESCRIPTION:
URL:http://fanfarenzug-badsalzig.de/event/freundschaftstreffen-sassenberg/
END:VEVENT
BEGIN:VEVENT
DTSTART;VALUE=DATE:20250607
DTEND;VALUE=DATE:20250608
DTSTAMP:20260424T181951
CREATED:20250409T061712Z
LAST-MODIFIED:20250409T061712Z
UID:5461-1749254400-1749340799@fanfarenzug-badsalzig.de
SUMMARY:Umzug Bälzer Kirmes
DESCRIPTION:Abmarsch 18:00 Uhr Mühltal
URL:http://fanfarenzug-badsalzig.de/event/umzug-baelzer-kirmes/
END:VEVENT
BEGIN:VEVENT
DTSTART;VALUE=DATE:20250607
DTEND;VALUE=DATE:20250608
DTSTAMP:20260424T181951
CREATED:20250127T081858Z
LAST-MODIFIED:20250127T081858Z
UID:5255-1749254400-1749340799@fanfarenzug-badsalzig.de
SUMMARY:Bälzer Nachbarschaft
DESCRIPTION:Abmarsch Mühltal 18:000 Uhr
URL:http://fanfarenzug-badsalzig.de/event/baelzer-nachbarschaft/
END:VEVENT
BEGIN:VEVENT
DTSTART;VALUE=DATE:20250524
DTEND;VALUE=DATE:20250525
DTSTAMP:20260424T181951
CREATED:20250409T061637Z
LAST-MODIFIED:20250409T061637Z
UID:5459-1748044800-1748131199@fanfarenzug-badsalzig.de
SUMMARY:Freundschaftstreffen Mayen
DESCRIPTION:Abfahrt: 13:30 Uhr\, \nRückfahrt: 18:00 Uhr
URL:http://fanfarenzug-badsalzig.de/event/freundschaftstreffen-mayen-2/
END:VEVENT
BEGIN:VEVENT
DTSTART;VALUE=DATE:20250524
DTEND;VALUE=DATE:20250525
DTSTAMP:20260424T181951
CREATED:20240929T090215Z
LAST-MODIFIED:20240929T090215Z
UID:4990-1748044800-1748131199@fanfarenzug-badsalzig.de
SUMMARY:Freundschaftstreffen Mayen
DESCRIPTION:Anfahrt 13:30 Uhr\, Rückfahrt: 18:00 Uhr
URL:http://fanfarenzug-badsalzig.de/event/freundschaftstreffen-mayen/
END:VEVENT
BEGIN:VEVENT
DTSTART;VALUE=DATE:20250501
DTEND;VALUE=DATE:20250502
DTSTAMP:20260424T181951
CREATED:20250409T061558Z
LAST-MODIFIED:20250409T061558Z
UID:5457-1746057600-1746143999@fanfarenzug-badsalzig.de
SUMMARY:Maibaumaufstellen
DESCRIPTION:11:00 Uhr
URL:http://fanfarenzug-badsalzig.de/event/maibaumaufstellen-4/
END:VEVENT
BEGIN:VEVENT
DTSTART;VALUE=DATE:20250315
DTEND;VALUE=DATE:20250316
DTSTAMP:20260424T181951
CREATED:20241201T091553Z
LAST-MODIFIED:20241201T091553Z
UID:5143-1741996800-1742083199@fanfarenzug-badsalzig.de
SUMMARY:Jahreshauptversammlung
DESCRIPTION:
URL:http://fanfarenzug-badsalzig.de/event/jahreshauptversammlung-9/
END:VEVENT
BEGIN:VEVENT
DTSTART;VALUE=DATE:20250222
DTEND;VALUE=DATE:20250223
DTSTAMP:20260424T181951
CREATED:20250127T081749Z
LAST-MODIFIED:20250127T081749Z
UID:5253-1740182400-1740268799@fanfarenzug-badsalzig.de
SUMMARY:Jugendsitzung CV
DESCRIPTION:Beginn 14:11 Uhr
URL:http://fanfarenzug-badsalzig.de/event/jugendsitzung-cv-2/
END:VEVENT
BEGIN:VEVENT
DTSTART;VALUE=DATE:20250222
DTEND;VALUE=DATE:20250223
DTSTAMP:20260424T181951
CREATED:20250127T081723Z
LAST-MODIFIED:20250127T081723Z
UID:5251-1740182400-1740268799@fanfarenzug-badsalzig.de
SUMMARY:Begleitung Kristina - Oppenhausen
DESCRIPTION:Zeiten folgen
URL:http://fanfarenzug-badsalzig.de/event/begleitung-kristina-oppenhausen/
END:VEVENT
BEGIN:VEVENT
DTSTART;VALUE=DATE:20250215
DTEND;VALUE=DATE:20250216
DTSTAMP:20260424T181951
CREATED:20250127T081549Z
LAST-MODIFIED:20250127T081549Z
UID:5245-1739577600-1739663999@fanfarenzug-badsalzig.de
SUMMARY:3. Sitzung
DESCRIPTION:Beginn: 19:33 Uhr
URL:http://fanfarenzug-badsalzig.de/event/3-sitzung/
END:VEVENT
BEGIN:VEVENT
DTSTART;VALUE=DATE:20250214
DTEND;VALUE=DATE:20250215
DTSTAMP:20260424T181951
CREATED:20250127T081520Z
LAST-MODIFIED:20250127T081520Z
UID:5243-1739491200-1739577599@fanfarenzug-badsalzig.de
SUMMARY:2. Sitzung CV
DESCRIPTION:Beginn: 19:33 Uhr
URL:http://fanfarenzug-badsalzig.de/event/2-sitzung-cv-2/
END:VEVENT
BEGIN:VEVENT
DTSTART;VALUE=DATE:20250208
DTEND;VALUE=DATE:20250209
DTSTAMP:20260424T181951
CREATED:20250127T081437Z
LAST-MODIFIED:20250127T081437Z
UID:5241-1738972800-1739059199@fanfarenzug-badsalzig.de
SUMMARY:1. Sitzung CV
DESCRIPTION:Beginn 19:33 Uhr
URL:http://fanfarenzug-badsalzig.de/event/1-sitzung-cv-2/
END:VEVENT
BEGIN:VEVENT
DTSTART;VALUE=DATE:20250201
DTEND;VALUE=DATE:20250202
DTSTAMP:20260424T181951
CREATED:20250127T081653Z
LAST-MODIFIED:20250127T081653Z
UID:5249-1738368000-1738454399@fanfarenzug-badsalzig.de
SUMMARY:Begleitung Kristina - Baudobriga
DESCRIPTION:Abfahrt 20:00 Uhr
URL:http://fanfarenzug-badsalzig.de/event/begleitung-kristina-baudobriga/
END:VEVENT
BEGIN:VEVENT
DTSTART;VALUE=DATE:20250131
DTEND;VALUE=DATE:20250201
DTSTAMP:20260424T181951
CREATED:20250127T081629Z
LAST-MODIFIED:20250127T081629Z
UID:5247-1738281600-1738367999@fanfarenzug-badsalzig.de
SUMMARY:Begleitung Kristina - Buchholz
DESCRIPTION:Abfahrt 20:00 Uhr
URL:http://fanfarenzug-badsalzig.de/event/begleitung-kristina-buchholz/
END:VEVENT
END:VCALENDAR